BEGIN:VCALENDAR
VERSION:2.0
PRODID:-//Omtara - ECPv6.15.11//NONSGML v1.0//EN
CALSCALE:GREGORIAN
METHOD:PUBLISH
X-WR-CALNAME:Omtara
X-ORIGINAL-URL:https://omtara.vn
X-WR-CALDESC:Sự kiện cho Omtara
REFRESH-INTERVAL;VALUE=DURATION:PT1H
X-Robots-Tag:noindex
X-PUBLISHED-TTL:PT1H
BEGIN:VTIMEZONE
TZID:Asia/Krasnoyarsk
BEGIN:STANDARD
TZOFFSETFROM:+0700
TZOFFSETTO:+0700
TZNAME:+07
DTSTART:20210101T000000
END:STANDARD
END:VTIMEZONE
BEGIN:VEVENT
DTSTART;VALUE=DATE:20220718
DTEND;VALUE=DATE:20220726
DTSTAMP:20260419T200058
CREATED:20190305T072352Z
LAST-MODIFIED:20230526T031825Z
UID:536-1658127600-1658732399@omtara.vn
SUMMARY:ĐI CÙNG NHAU - ĐI ĐỂ TRƯỞNG THÀNH
DESCRIPTION:Một năm học đã qua\, chắc hẳn các bạn học sinh đã có một khoảng thời gian thật là bận rộn đúng không nào ?\n\n\n\n Hè đã đến. Mùa hè là mùa chúng ta xa bạn bè\, xa trường lớp xa những hoạt động học tập hàng ngày. Chắc hẳn các con nhớ lắm những ngày đến trường đúng không? Mùa hè này\, con có muốn được về cùng thiên nhiên mát lành\, được chơi thỏa thích\, kết nối với các bạn bè và trải nghiệm thêm nhiều điều bổ ích cho mình và nạp thêm năng lượng để bắt đầu năm học mới với tinh thần tươi vui\, háo hức và hạnh phúc không?\n\n\n – Trại hè kết nối dành cho teen được ra đời nhằm mục đích giúp các con thư giãn sau chuỗi ngày học tập bận rộn; lắng lại để thấu hiểu bản thân; thấu hiểu cảm xúc; được kết nối với chính mình\, bạn bè và người khác\, để tái nạp năng lượng\, để trở về mạnh mẽ hơn\, khoẻ mạnh hơn và hạnh phúc hơn.\n\n\nCác con sẽ có khoảng thời gian tận hưởng không khí trong lành an yên\, không chút khói bụi thành phố tại bán đảo bình an Om Tara Retreat\, nằm tách biệt cạnh hồ thác Bà\, được ưu ái với thiên nhiên nguyên sơ và hùng vĩ – mảnh đất giàu năng lượng cho các hoạt động chữa lành\, giáo dục\, kết nối.\n\n\nCác con sẽ cùng nhau học tập kết hợp du lịch và kết nối với thật nhiều bạn bè mới\, tham gia thật nhiều hoạt động ngoại khoá gần gũi với thiên nhiên như bơi lội\, chèo thuyền\, điền dã\, đạp xe\, học thêm các kỹ năng mềm như tự chăm sóc bản thân; làm việc nhóm; làm việc độc lập; kỹ năng xây dựng và thực hiện mục tiêu…\n\n\nCác con có cơ hội hiểu về sức khỏe tinh thần\, thấu hiểu chính mình và cả những người thân yêu\, bạn bè xung quanh cùng đội ngũ chuyên gia giàu kinh nghiệm làm việc với các bạn nhỏ dưới dạng trò chơi\, giúp cho các bạn luôn có được những ngày chơi thật là vui. Ngoài chơi thật đã\, đây cũng là khoảng thời gian giúp các con thực hành lối sống lành mạnh\, khỏe mạnh và tràn đầy bình an\, giúp con nạp thêm thật nhiều năng lượng cho một năm học tiếp theo đấy nhé.\n\n\n\n – “Đi để trưởng thành” sẽ là khoảng thời gian tuyệt vời để các con có thêm nhiều trải nghiệm đặc biệt\, thực hành sống tỉnh thức\, yêu thương\, từ bi và tái nạp năng lượng\, chuẩn bị cho một năm học mới!\n\n\n—————————\nLỊCH TRÌNH HÀNG NGÀY\n\n\n7:00: Thức giấc\n7.30-8.00: Hoạt động thể dục\n8.00-8.30: Ăn sáng\n9.00-11.00: Workshop khai sáng\n11.30-12.30: Ăn trưa\n12.30 -14.00: Nghỉ trưa\n14-15:30: Hoạt động trong nhà\n16:00-17:30: Hoạt động ngoài trời\n18.00-19:30: Ăn tối\n20.00-21.00: Vòng tròn chia sẻ\n21:00-21:30: Viết nhật ký\n21.30: Đi ngủ\n\n\n—————————\nCÁCH THỨC ĐĂNG KÝ\nCác bạn học sinh và phụ huynh muốn tìm hiểu chi tiết về Teen camp hay muốn đăng ký cho các con\, vui lòng truy cập:\n\nWebsite: https://retreat.omtara.vn/teen-camp-2022 \n\n\n\n\n\n\nTRI ÂN CHÀO HÈ\nƯu đãi 15% cho đăng ký nhóm từ 10 học sinh\nƯu đãi 10% cho đăng ký nhóm từ 5 học sinh\nƯu đãi 5% cho đăng ký nhóm từ 2 học sinh hoặc đăng ký trước 20/6\n\n\n—————————\nMọi thông tin cần hỗ trợ\, ba mẹ và các bạn học sinh có thể liên hệ\n Hotline: 096 357 1358\n Email: omtara.retreat@gmail.com\n\n\nHẹn gặp các bạn học sinh trên chuyến tàu đi để trưởng thành tại Om Tara\nOm Shanti | Om Tara Yên Bái
URL:https://omtara.vn/event/sunday-dharma-school/
LOCATION:Location\, 768 5th Ave\, New York\, NY\, 10019\, United States
CATEGORIES:Dharma
ATTACH;FMTTYPE=image/jpeg:https://omtara.vn/wp-content/uploads/2019/03/287073985_196251289399284_5768482757913776831_n.jpg
END:VEVENT
BEGIN:VEVENT
DTSTART;VALUE=DATE:20220701
DTEND;VALUE=DATE:20220709
DTSTAMP:20260419T200058
CREATED:20190305T063940Z
LAST-MODIFIED:20230526T031835Z
UID:523-1656658800-1657263599@omtara.vn
SUMMARY:TRẠI HÈ YOGA & NATURE CHO TRẺ EM - LẦN ĐẦU TIÊN TỔ CHỨC TẠI MIỀN BẮC BỞI SIVANANDA YOGA & OM TARA RETREAT?)
DESCRIPTION:Trại hè Yoga & Nature cho trẻ em sẽ mang đến cho các bạn nhỏ từ 7 đến 14 tuổi cơ hội thực hành lối sống thuận tự nhiên\, kết nối và yêu thương\, tôn trọng bản sắc riêng của mỗi người thông qua những lời dạy về Yoga một cách bổ ích\, vui vẻ\, sáng tạo\, đầy cảm hứng và tràn ngập năng lượng giữa rừng núi yên bình của bán đảo Om Tara xinh đẹp.\n\n\n Các bạn nhỏ sẽ có cơ hội tìm hiểu và thực hành các tư thế yoga\, thiền định\, nuôi dưỡng sự tự tin\, điềm tĩnh và lòng từ bi\, sống lành mạnh và thư giãn để phát triển toàn diện\, khám phá thiên nhiên và rèn luyện các kỹ năng sống cần thiết\n\n\n Các bạn sẽ cùng nhau tìm hiểu về Karma Yoga (phục vụ vô vị lợi)\, bao gồm cả các công việc nội khu\, phụ giúp nấu ăn và làm vườn\, giúp con phát triển tinh thần trách nhiệm\, biết chia sẻ và học cách làm việc nhóm\n\n\n Các bạn sẽ trải nghiệm chế độ ăn chay phong phú đa dạng\, đủ chất dinh dưỡng từ nguyên liệu hữu cơ được thiết kế từ các chuyên gia dinh dưỡng cho trẻ em\n\n\n Ngoài ra\, các workshop kỹ năng – vận động – teamwork – nghệ thuật đan xen trong suốt 7 ngày sẽ giúp khơi mở cánh cửa sáng tạo bên trong các bạn\, những trò chơi vận động ngoài trời\, trò chơi tập thể và những chuyến điền dã trong núi\, leo núi\, cắm trại\,… khám phá núi đồi xung quanh giúp các bạn kết nối và làm bạn với thiên nhiên\n\n\nTrại hè Yoga & Nature là khoảng thời gian lý tưởng giúp các bạn nhỏ học cách bình an trưởng thành\, sống tự lập\, có trách nhiệm và trọn vẹn một mùa hè đáng nhớ.\n—————————\n THỜI KHÓA BIỂU HÀNG NGÀY\n6:45 Báo Thức\n7:15 Ăn Sáng\n7:45 Dẫn thiền\n9:00 Lớp Asana\n10:00 Ăn trưa\n10:45 Karma yoga\n11:45 Nidra Yoga\n12:30 Lớp chuyên đề\n13:45 Dẫn đi ăn xế\n14:15 Hoạt động sáng tạo\n15:30 Vận động ngoài trời\n17:00 Lớp Asana\n18:00 Ăn tối\n19:15 Dẫn thiền\n21:00 Tắt đèn\, ngủ\n\n\n—————————\n CÁCH THỨC ĐĂNG KÝ\nQuý phụ huynh muốn tìm hiểu chi tiết về Camp hay muốn đăng ký cho các con\, vui lòng truy cập:\n\nWebsite: https://retreat.omtara.vn/kidscamp2022 \n\n\n\n\n\n\nSỐ LƯỢNG GIỚI HẠN: 30 học viên\n\n\n Ưu đãi đặc biệt cho khách của Om Tara:\n Tặng 10% học bổng cho tất cả các bé đăng ký trong năm đầu tiên tại Miền bắc\n Tặng 15% học bổng cho đăng ký từ 2 bé\n Tặng 20% học bổng cho đăng ký từ 3 bé trở lên.\n Tặng học bổng tới 50% cho các bé có hoàn cảnh khó khăn mong muốn tham gia trải nghiệm tại Trại hè.\n\n\n—————————\nMọi thông tin cần hỗ trợ\, ba mẹ có thể liên hệ\n Hotline: 096 357 1358\n Email: omtara.retreat@gmail.com\n\n\nHẹn gặp các con trên chuyến hành trình kết nối và yêu thương\nOm Shanti | Om Tara Yên Bái
URL:https://omtara.vn/event/buddhas-birthday-celebration/
LOCATION:Location\, 768 5th Ave\, New York\, NY\, 10019\, United States
CATEGORIES:Meditation Events
ATTACH;FMTTYPE=image/jpeg:https://omtara.vn/wp-content/uploads/2019/03/287847273_197291329295280_6554677345536453443_n.jpg
END:VEVENT
END:VCALENDAR