BEGIN:VCALENDAR
VERSION:2.0
PRODID:-//Omtara - ECPv6.15.11//NONSGML v1.0//EN
CALSCALE:GREGORIAN
METHOD:PUBLISH
X-WR-CALNAME:Omtara
X-ORIGINAL-URL:https://omtara.vn
X-WR-CALDESC:Sự kiện cho Omtara
REFRESH-INTERVAL;VALUE=DURATION:PT1H
X-Robots-Tag:noindex
X-PUBLISHED-TTL:PT1H
BEGIN:VTIMEZONE
TZID:Asia/Krasnoyarsk
BEGIN:STANDARD
TZOFFSETFROM:+0700
TZOFFSETTO:+0700
TZNAME:+07
DTSTART:20210101T000000
END:STANDARD
END:VTIMEZONE
BEGIN:VEVENT
DTSTART;TZID=Asia/Krasnoyarsk:20220816T080000
DTEND;TZID=Asia/Krasnoyarsk:20220829T170000
DTSTAMP:20260419T232743
CREATED:20220815T054726Z
LAST-MODIFIED:20220815T055401Z
UID:3203-1660636800-1661792400@omtara.vn
SUMMARY:THAM GIA LỚP YOGA CỘNG ĐỒNG HOÀN TOÀN MIỄN PHÍ KHI ĐĂNG KÝ THAM GIA CỘNG ĐỒNG "SỐNG KHỎE TỰ NHIÊN"
DESCRIPTION:Với mong muốn xây dựng một cộng đồng khỏe tự nhiên từ bên trong\, Om Tara Well – being hướng tới sự chăm sóc toàn diện để mỗi người đều tìm thấy những phút giây thư giãn và an nhiên thật sự.\n\n\nCộng đồng “SỐNG KHỎE TỰ NHIÊN” là một cộng đồng hoàn toàn MIỄN PHÍ – nơi kết nối những người đã – đang và mong muốn duy trì lối sống lành mạnh\, khỏe từ bên trong.\n\n\n\n\nQUYỀN LỢI ĐẶC BIỆT DÀNH CHO THÀNH VIÊN :\n– Trải nghiệm lớp YOGA CỘNG ĐỒNG hoàn toàn miễn phí từ ngày 15/08\n– Tuần lễ trải nghiệm Sống khỏe tự nhiên với các quyền lợi đặc biệt như: Yoga không giới hạn\, dịch vụ tư vấn sức khỏe tổng thể\, giảm 20% các dịch vụ khác trong hệ thống…\n– Giảm 20% Tại Om Tara Vegan – Chay Khởi đến ngày 30/09/2022\n– Các ưu đãi dành cho học viên khi tham gia Workshop\, Retreat và các khóa học tại Om Tara\, Om Tara Resort..\n– Chương trình tư vấn Hành trình YOGA Cùng OM TARA YOGA\n\n\n\n\nCÁCH ĐĂNG KÝ THAM GIA LỚP YOGA CỘNG ĐỒNG\n\nBƯỚC 1: Đăng ký trở thành thành viên của cộng đồng “Sống khỏe tự nhiên” tại: https://by.com.vn/3aocxt \n\n\n\n\nKhi bạn đăng ký thẻ thành viên bạn sẽ nhận được một email xác nhận đăng ký thành công có đính kèm mã thẻ thành viên.\n\n\n\nBƯỚC 2: Bạn sử dụng mã thẻ hội viên đã được cấp để đặt chỗ cho các lớp Yoga Cộng đồng từ ngày 15/08 tại link: https://omtara.vn/book-yoga/ \n\n\n\n\nOm Tara sẽ gửi xác nhận khi đặt chỗ của bạn hợp lệ và chúng tôi còn chỗ trống cho lớp tập.\n\n\n***Lịch tập Yoga sẽ được công bố trên trang Fanpage chính thức https://www.facebook.com/omtara.hn\n\n\n\nThương mời bạn cùng đến Om Tara để chọn cho mình những phút giây thư giãn và đánh thức khả năng chữa lành tự nhiên trong con người của bạn!\n\n\nHãy một lần để cơ thể lên tiếng và trái tim sẽ lại thảnh thơi.\n\n\n_________\n𝗢𝗠 𝗧𝗔𝗥𝗔 𝗪𝗘𝗟𝗟𝗕𝗘𝗜𝗡𝗚 𝗚𝗥𝗢𝗨𝗣\nOm Tara Vegan Restaurant Hanoi – https://www.facebook.com/omtara.vegan/\nOm Tara Yoga & Wellbeing Center Hanoi – https://www.facebook.com/omtara.yoga.hn/\nOm Tara Retreat Yên Bái – https://www.facebook.com/omtara.retreat
URL:https://omtara.vn/event/tham-gia-lop-yoga-cong-dong-hoan-toan-mien-phi-khi-dang-ky-tham-gia-cong-dong-song-khoe-tu-nhien/
ATTACH;FMTTYPE=image/png:https://omtara.vn/wp-content/uploads/2022/08/yoga-cong-dong-chot-01.png
END:VEVENT
END:VCALENDAR